BEGIN:VCALENDAR
VERSION:2.0
PRODID:-//IGS Herder - ECPv6.15.20//NONSGML v1.0//EN
CALSCALE:GREGORIAN
METHOD:PUBLISH
X-ORIGINAL-URL:https://igs-herder.de
X-WR-CALDESC:Veranstaltungen für IGS Herder
REFRESH-INTERVAL;VALUE=DURATION:PT1H
X-Robots-Tag:noindex
X-PUBLISHED-TTL:PT1H
BEGIN:VTIMEZONE
TZID:UTC
BEGIN:STANDARD
TZOFFSETFROM:+0000
TZOFFSETTO:+0000
TZNAME:UTC
DTSTART:20220101T000000
END:STANDARD
END:VTIMEZONE
BEGIN:VEVENT
DTSTART;TZID=UTC:20230911T080000
DTEND;TZID=UTC:20230921T170000
DTSTAMP:20260423T050141
CREATED:20231103T072613Z
LAST-MODIFIED:20231103T072616Z
UID:9753-1694419200-1695315600@igs-herder.de
SUMMARY:Schnuppern in den Ganztagskursen
DESCRIPTION:
URL:https://igs-herder.de/event/schnuppern-in-den-ganztagskursen/
END:VEVENT
BEGIN:VEVENT
DTSTART;TZID=UTC:20230918T080000
DTEND;TZID=UTC:20230928T170000
DTSTAMP:20260423T050141
CREATED:20231103T072952Z
LAST-MODIFIED:20231103T072954Z
UID:9755-1695024000-1695920400@igs-herder.de
SUMMARY:Präsentationsprüfung 10 - Beratungsphase
DESCRIPTION:In diesem Zeitraum werden die 10. Klässler*innen von ihren Prüfer*innen für die Präsentationsprüfung beraten.
URL:https://igs-herder.de/event/praesentationspruefung-10-beratungsphase/
END:VEVENT
BEGIN:VEVENT
DTSTART;TZID=UTC:20230920T193000
DTEND;TZID=UTC:20230920T210000
DTSTAMP:20260423T050141
CREATED:20231103T072428Z
LAST-MODIFIED:20231103T072441Z
UID:9750-1695238200-1695243600@igs-herder.de
SUMMARY:Elternabend 5/7/9
DESCRIPTION:Wahlen der Elternvertretungen
URL:https://igs-herder.de/event/elternabend-5-7-9/
END:VEVENT
END:VCALENDAR