BEGIN:VCALENDAR
VERSION:2.0
PRODID:-//IGS Herder - ECPv6.15.20//NONSGML v1.0//EN
CALSCALE:GREGORIAN
METHOD:PUBLISH
X-ORIGINAL-URL:https://igs-herder.de
X-WR-CALDESC:Veranstaltungen für IGS Herder
REFRESH-INTERVAL;VALUE=DURATION:PT1H
X-Robots-Tag:noindex
X-PUBLISHED-TTL:PT1H
BEGIN:VTIMEZONE
TZID:UTC
BEGIN:STANDARD
TZOFFSETFROM:+0000
TZOFFSETTO:+0000
TZNAME:UTC
DTSTART:20220101T000000
END:STANDARD
END:VTIMEZONE
BEGIN:VEVENT
DTSTART;TZID=UTC:20231120T080000
DTEND;TZID=UTC:20231124T170000
DTSTAMP:20260423T015107
CREATED:20231103T040057Z
LAST-MODIFIED:20231108T080239Z
UID:9703-1700467200-1700845200@igs-herder.de
SUMMARY:1. Zeitzone
DESCRIPTION:Jg. 5: „Gesellschaft und Spiele“  \n\n\n\nJg. 6: „Rund ums Buch“ – Lesekompetenzen  \n\n\n\nJg. 7: English Village  \n\n\n\nJg. 8: Berufsorientierung  \n\n\n\nJg. 9: Projektprüfung  \n\n\n\nJg. 10: Rice Packaging
URL:https://igs-herder.de/event/1-zeitzone/
END:VEVENT
END:VCALENDAR