BEGIN:VCALENDAR
VERSION:2.0
PRODID:-//IGS Herder - ECPv6.15.20//NONSGML v1.0//EN
CALSCALE:GREGORIAN
METHOD:PUBLISH
X-WR-CALNAME:IGS Herder
X-ORIGINAL-URL:https://igs-herder.de
X-WR-CALDESC:Veranstaltungen für IGS Herder
REFRESH-INTERVAL;VALUE=DURATION:PT1H
X-Robots-Tag:noindex
X-PUBLISHED-TTL:PT1H
BEGIN:VTIMEZONE
TZID:UTC
BEGIN:STANDARD
TZOFFSETFROM:+0000
TZOFFSETTO:+0000
TZNAME:UTC
DTSTART:20220101T000000
END:STANDARD
END:VTIMEZONE
BEGIN:VEVENT
DTSTART;TZID=UTC:20231128T080000
DTEND;TZID=UTC:20231128T170000
DTSTAMP:20260423T002409
CREATED:20231103T142249Z
LAST-MODIFIED:20231103T142254Z
UID:9788-1701158400-1701190800@igs-herder.de
SUMMARY:Projektprüfung Präsentation Jg. 9
DESCRIPTION:
URL:https://igs-herder.de/event/projektpruefung-praesentation-jg-9/
END:VEVENT
END:VCALENDAR