BEGIN:VCALENDAR
VERSION:2.0
PRODID:-//IGS Herder - ECPv6.15.20//NONSGML v1.0//EN
CALSCALE:GREGORIAN
METHOD:PUBLISH
X-WR-CALNAME:IGS Herder
X-ORIGINAL-URL:https://igs-herder.de
X-WR-CALDESC:Veranstaltungen für IGS Herder
REFRESH-INTERVAL;VALUE=DURATION:PT1H
X-Robots-Tag:noindex
X-PUBLISHED-TTL:PT1H
BEGIN:VTIMEZONE
TZID:UTC
BEGIN:STANDARD
TZOFFSETFROM:+0000
TZOFFSETTO:+0000
TZNAME:UTC
DTSTART:20220101T000000
END:STANDARD
END:VTIMEZONE
BEGIN:VEVENT
DTSTART;TZID=UTC:20231204T080000
DTEND;TZID=UTC:20231215T170000
DTSTAMP:20260423T002355
CREATED:20231103T192233Z
LAST-MODIFIED:20231103T192235Z
UID:9819-1701676800-1702659600@igs-herder.de
SUMMARY:Betriebspraktikum des Jg. 9
DESCRIPTION:
URL:https://igs-herder.de/event/betriebspraktikum-des-jg-9/
END:VEVENT
BEGIN:VEVENT
DTSTART;TZID=UTC:20231206T023000
DTEND;TZID=UTC:20231206T170000
DTSTAMP:20260423T002355
CREATED:20231103T142406Z
LAST-MODIFIED:20231103T192018Z
UID:9790-1701829800-1701882000@igs-herder.de
SUMMARY:Gesamtkonferenz
DESCRIPTION:
URL:https://igs-herder.de/event/gesamtkonferenz/
END:VEVENT
BEGIN:VEVENT
DTSTART;TZID=UTC:20231206T193000
DTEND;TZID=UTC:20231206T210000
DTSTAMP:20260423T002355
CREATED:20231103T042821Z
LAST-MODIFIED:20231103T042823Z
UID:9743-1701891000-1701896400@igs-herder.de
SUMMARY:Übergang 9/10
DESCRIPTION:Elterninformationsveranstaltung in der Aula
URL:https://igs-herder.de/event/uebergang-9-10/
END:VEVENT
END:VCALENDAR