BEGIN:VCALENDAR
VERSION:2.0
PRODID:-//IGS Herder - ECPv6.15.20//NONSGML v1.0//EN
CALSCALE:GREGORIAN
METHOD:PUBLISH
X-ORIGINAL-URL:https://igs-herder.de
X-WR-CALDESC:Veranstaltungen für IGS Herder
REFRESH-INTERVAL;VALUE=DURATION:PT1H
X-Robots-Tag:noindex
X-PUBLISHED-TTL:PT1H
BEGIN:VTIMEZONE
TZID:UTC
BEGIN:STANDARD
TZOFFSETFROM:+0000
TZOFFSETTO:+0000
TZNAME:UTC
DTSTART:20230101T000000
END:STANDARD
END:VTIMEZONE
BEGIN:VEVENT
DTSTART;TZID=UTC:20240425T081500
DTEND;TZID=UTC:20240425T141500
DTSTAMP:20260424T121014
CREATED:20230228T115315Z
LAST-MODIFIED:20231102T064316Z
UID:7586-1714032900-1714054500@igs-herder.de
SUMMARY:Girls' & Boys' Day
DESCRIPTION:Suchen Sie frühzeitig nach einem Platz für den Girls`Day & Boys´Day. Hier finden Sie alle Informationen und auch tolle Platzangebote über den „Radar“!  \n\n\n\n\nhttps://www.boys-day.de/boys-day-radar\n\n\n\n\n\nhttps://www.girls-day.de/Radar
URL:https://igs-herder.de/event/girlsboys-day/
END:VEVENT
END:VCALENDAR