BEGIN:VCALENDAR
VERSION:2.0
PRODID:-//IGS Herder - ECPv6.15.20//NONSGML v1.0//EN
CALSCALE:GREGORIAN
METHOD:PUBLISH
X-ORIGINAL-URL:https://igs-herder.de
X-WR-CALDESC:Veranstaltungen für IGS Herder
REFRESH-INTERVAL;VALUE=DURATION:PT1H
X-Robots-Tag:noindex
X-PUBLISHED-TTL:PT1H
BEGIN:VTIMEZONE
TZID:UTC
BEGIN:STANDARD
TZOFFSETFROM:+0000
TZOFFSETTO:+0000
TZNAME:UTC
DTSTART:20230101T000000
END:STANDARD
END:VTIMEZONE
BEGIN:VEVENT
DTSTART;TZID=UTC:20240502T193000
DTEND;TZID=UTC:20240502T210000
DTSTAMP:20260422T105925
CREATED:20231103T193647Z
LAST-MODIFIED:20231103T193649Z
UID:9831-1714678200-1714683600@igs-herder.de
SUMMARY:Fördervereinssitzung
DESCRIPTION:
URL:https://igs-herder.de/event/foerdervereinssitzung-8/
END:VEVENT
END:VCALENDAR