BEGIN:VCALENDAR
VERSION:2.0
PRODID:-//IGS Herder - ECPv6.15.20//NONSGML v1.0//EN
CALSCALE:GREGORIAN
METHOD:PUBLISH
X-WR-CALNAME:IGS Herder
X-ORIGINAL-URL:https://igs-herder.de
X-WR-CALDESC:Veranstaltungen für IGS Herder
REFRESH-INTERVAL;VALUE=DURATION:PT1H
X-Robots-Tag:noindex
X-PUBLISHED-TTL:PT1H
BEGIN:VTIMEZONE
TZID:UTC
BEGIN:STANDARD
TZOFFSETFROM:+0000
TZOFFSETTO:+0000
TZNAME:UTC
DTSTART:20230101T000000
END:STANDARD
END:VTIMEZONE
BEGIN:VEVENT
DTSTART;TZID=UTC:20240603T000000
DTEND;TZID=UTC:20240605T235959
DTSTAMP:20260420T095129
CREATED:20230326T121110Z
LAST-MODIFIED:20231102T063848Z
UID:8062-1717372800-1717631999@igs-herder.de
SUMMARY:H+R Nachprüfungen
DESCRIPTION:
URL:https://igs-herder.de/event/hr-nachpruefungen/
END:VEVENT
END:VCALENDAR