BEGIN:VCALENDAR
VERSION:2.0
PRODID:-//IGS Herder - ECPv6.15.20//NONSGML v1.0//EN
CALSCALE:GREGORIAN
METHOD:PUBLISH
X-WR-CALNAME:IGS Herder
X-ORIGINAL-URL:https://igs-herder.de
X-WR-CALDESC:Veranstaltungen für IGS Herder
REFRESH-INTERVAL;VALUE=DURATION:PT1H
X-Robots-Tag:noindex
X-PUBLISHED-TTL:PT1H
BEGIN:VTIMEZONE
TZID:UTC
BEGIN:STANDARD
TZOFFSETFROM:+0000
TZOFFSETTO:+0000
TZNAME:UTC
DTSTART:20230101T000000
END:STANDARD
END:VTIMEZONE
BEGIN:VEVENT
DTSTART;TZID=UTC:20240620T080000
DTEND;TZID=UTC:20240620T170000
DTSTAMP:20260420T095100
CREATED:20231103T194212Z
LAST-MODIFIED:20240604T041359Z
UID:9839-1718870400-1718902800@igs-herder.de
SUMMARY:Teamklausur 5
DESCRIPTION:Studientag für Jahrgang 5
URL:https://igs-herder.de/event/teamklausur-5-neu-6/
END:VEVENT
BEGIN:VEVENT
DTSTART;TZID=UTC:20240620T080000
DTEND;TZID=UTC:20240620T170000
DTSTAMP:20260420T095100
CREATED:20240604T041117Z
LAST-MODIFIED:20240604T041117Z
UID:12829-1718870400-1718902800@igs-herder.de
SUMMARY:Teamklausur Jahrgang 9
DESCRIPTION:Studientag für Jahrgang 9
URL:https://igs-herder.de/event/teamklausur-jahrgang-9/
END:VEVENT
BEGIN:VEVENT
DTSTART;TZID=UTC:20240620T193000
DTEND;TZID=UTC:20240620T210000
DTSTAMP:20260420T095100
CREATED:20240301T101411Z
LAST-MODIFIED:20240301T101412Z
UID:12211-1718911800-1718917200@igs-herder.de
SUMMARY:Schulelternbeiratssitzung
DESCRIPTION:
URL:https://igs-herder.de/event/schulelternbeiratssitzung-5/
END:VEVENT
END:VCALENDAR