BEGIN:VCALENDAR
VERSION:2.0
PRODID:-//IGS Herder - ECPv6.15.20//NONSGML v1.0//EN
CALSCALE:GREGORIAN
METHOD:PUBLISH
X-WR-CALNAME:IGS Herder
X-ORIGINAL-URL:https://igs-herder.de
X-WR-CALDESC:Veranstaltungen für IGS Herder
REFRESH-INTERVAL;VALUE=DURATION:PT1H
X-Robots-Tag:noindex
X-PUBLISHED-TTL:PT1H
BEGIN:VTIMEZONE
TZID:UTC
BEGIN:STANDARD
TZOFFSETFROM:+0000
TZOFFSETTO:+0000
TZNAME:UTC
DTSTART:20230101T000000
END:STANDARD
END:VTIMEZONE
BEGIN:VEVENT
DTSTART;TZID=UTC:20240628T080000
DTEND;TZID=UTC:20240628T090000
DTSTAMP:20260420T094949
CREATED:20240621T041148Z
LAST-MODIFIED:20240621T041148Z
UID:13034-1719561600-1719565200@igs-herder.de
SUMMARY:Teamklausur Team 6 (neu 7) und Team 8 (neu 9)
DESCRIPTION:Studientag für Schüler*innen der Jahrgänge 6 und 8
URL:https://igs-herder.de/event/teamklausur-team-6-neu-7-und-team-8-neu-9/
END:VEVENT
BEGIN:VEVENT
DTSTART;TZID=UTC:20240628T080000
DTEND;TZID=UTC:20240628T170000
DTSTAMP:20260420T094949
CREATED:20240604T040932Z
LAST-MODIFIED:20240604T040932Z
UID:12825-1719561600-1719594000@igs-herder.de
SUMMARY:Teamklausur Jahrgang 6
DESCRIPTION:Studientag für Jahrgang 6
URL:https://igs-herder.de/event/teamklausur-jahrgang-6/
END:VEVENT
END:VCALENDAR