BEGIN:VCALENDAR
VERSION:2.0
PRODID:-//IGS Herder - ECPv6.15.20//NONSGML v1.0//EN
CALSCALE:GREGORIAN
METHOD:PUBLISH
X-ORIGINAL-URL:https://igs-herder.de
X-WR-CALDESC:Veranstaltungen für IGS Herder
REFRESH-INTERVAL;VALUE=DURATION:PT1H
X-Robots-Tag:noindex
X-PUBLISHED-TTL:PT1H
BEGIN:VTIMEZONE
TZID:UTC
BEGIN:STANDARD
TZOFFSETFROM:+0000
TZOFFSETTO:+0000
TZNAME:UTC
DTSTART:20230101T000000
END:STANDARD
END:VTIMEZONE
BEGIN:VEVENT
DTSTART;TZID=UTC:20241101T000000
DTEND;TZID=UTC:20241101T235959
DTSTAMP:20260420T041514
CREATED:20240822T051210Z
LAST-MODIFIED:20240822T051210Z
UID:13235-1730419200-1730505599@igs-herder.de
SUMMARY:Jg. 10: Abgabe der Hausarbeit der RSPP
DESCRIPTION:
URL:https://igs-herder.de/event/jg-10-abgabe-der-hausarbeit-der-rspp/
END:VEVENT
BEGIN:VEVENT
DTSTART;TZID=UTC:20241101T200000
DTEND;TZID=UTC:20241101T233000
DTSTAMP:20260420T041514
CREATED:20240822T051338Z
LAST-MODIFIED:20240822T051338Z
UID:13237-1730491200-1730503800@igs-herder.de
SUMMARY:Herderparty
DESCRIPTION:Die Party für Eltern\, Lehrer*innen und Ehemalige!
URL:https://igs-herder.de/event/herderparty/
END:VEVENT
END:VCALENDAR