BEGIN:VCALENDAR
VERSION:2.0
PRODID:-//IGS Herder - ECPv6.15.20//NONSGML v1.0//EN
CALSCALE:GREGORIAN
METHOD:PUBLISH
X-ORIGINAL-URL:https://igs-herder.de
X-WR-CALDESC:Veranstaltungen für IGS Herder
REFRESH-INTERVAL;VALUE=DURATION:PT1H
X-Robots-Tag:noindex
X-PUBLISHED-TTL:PT1H
BEGIN:VTIMEZONE
TZID:Europe/Berlin
BEGIN:DAYLIGHT
TZOFFSETFROM:+0100
TZOFFSETTO:+0200
TZNAME:CEST
DTSTART:20230326T010000
END:DAYLIGHT
BEGIN:STANDARD
TZOFFSETFROM:+0200
TZOFFSETTO:+0100
TZNAME:CET
DTSTART:20231029T010000
END:STANDARD
BEGIN:DAYLIGHT
TZOFFSETFROM:+0100
TZOFFSETTO:+0200
TZNAME:CEST
DTSTART:20240331T010000
END:DAYLIGHT
BEGIN:STANDARD
TZOFFSETFROM:+0200
TZOFFSETTO:+0100
TZNAME:CET
DTSTART:20241027T010000
END:STANDARD
BEGIN:DAYLIGHT
TZOFFSETFROM:+0100
TZOFFSETTO:+0200
TZNAME:CEST
DTSTART:20250330T010000
END:DAYLIGHT
BEGIN:STANDARD
TZOFFSETFROM:+0200
TZOFFSETTO:+0100
TZNAME:CET
DTSTART:20251026T010000
END:STANDARD
END:VTIMEZONE
BEGIN:VEVENT
DTSTART;TZID=Europe/Berlin:20241114T000000
DTEND;TZID=Europe/Berlin:20241115T235959
DTSTAMP:20260420T010320
CREATED:20241107T091930Z
LAST-MODIFIED:20241107T091930Z
UID:14137-1731542400-1731715199@igs-herder.de
SUMMARY:Gewaltiges Theater
DESCRIPTION:
URL:https://igs-herder.de/event/gewaltiges-theater-2/
CATEGORIES:Team 8
END:VEVENT
BEGIN:VEVENT
DTSTART;TZID=Europe/Berlin:20241114T133000
DTEND;TZID=Europe/Berlin:20241114T160000
DTSTAMP:20260420T010320
CREATED:20241107T091930Z
LAST-MODIFIED:20241107T091930Z
UID:14138-1731591000-1731600000@igs-herder.de
SUMMARY:VIVA goes wild - Survival Kurs
DESCRIPTION:
URL:https://igs-herder.de/event/viva-goes-wild-survival-kurs/
CATEGORIES:Sonstiges
END:VEVENT
END:VCALENDAR