BEGIN:VCALENDAR
VERSION:2.0
PRODID:-//IGS Herder - ECPv6.15.20//NONSGML v1.0//EN
CALSCALE:GREGORIAN
METHOD:PUBLISH
X-ORIGINAL-URL:https://igs-herder.de
X-WR-CALDESC:Veranstaltungen für IGS Herder
REFRESH-INTERVAL;VALUE=DURATION:PT1H
X-Robots-Tag:noindex
X-PUBLISHED-TTL:PT1H
BEGIN:VTIMEZONE
TZID:UTC
BEGIN:STANDARD
TZOFFSETFROM:+0000
TZOFFSETTO:+0000
TZNAME:UTC
DTSTART:20230101T000000
END:STANDARD
END:VTIMEZONE
BEGIN:VEVENT
DTSTART;TZID=UTC:20241130T110000
DTEND;TZID=UTC:20241130T140000
DTSTAMP:20260419T232821
CREATED:20240822T052511Z
LAST-MODIFIED:20241031T084801Z
UID:13245-1732964400-1732975200@igs-herder.de
SUMMARY:Markt der Möglichkeiten der Frankfurter IGSen
DESCRIPTION:Am 30. November 2024 findet der Markt der Möglichkeiten der Frankfurter Gesamtschulen von 11.00 Uhr bis 14.00 Uhr im Saalbau Bornheim statt. Laden Sie andere Familien ein\, die unsere Gesamtschulen noch nicht kennen – hier sind wir alle vertreten und stellen unsere Arbeit vor.
URL:https://igs-herder.de/event/markt-der-moeglichkeiten-der-frankfurter-igsen/
END:VEVENT
END:VCALENDAR