BEGIN:VCALENDAR
VERSION:2.0
PRODID:-//IGS Herder - ECPv6.15.20//NONSGML v1.0//EN
CALSCALE:GREGORIAN
METHOD:PUBLISH
X-WR-CALNAME:IGS Herder
X-ORIGINAL-URL:https://igs-herder.de
X-WR-CALDESC:Veranstaltungen für IGS Herder
REFRESH-INTERVAL;VALUE=DURATION:PT1H
X-Robots-Tag:noindex
X-PUBLISHED-TTL:PT1H
BEGIN:VTIMEZONE
TZID:Europe/Berlin
BEGIN:DAYLIGHT
TZOFFSETFROM:+0100
TZOFFSETTO:+0200
TZNAME:CEST
DTSTART:20240331T010000
END:DAYLIGHT
BEGIN:STANDARD
TZOFFSETFROM:+0200
TZOFFSETTO:+0100
TZNAME:CET
DTSTART:20241027T010000
END:STANDARD
BEGIN:DAYLIGHT
TZOFFSETFROM:+0100
TZOFFSETTO:+0200
TZNAME:CEST
DTSTART:20250330T010000
END:DAYLIGHT
BEGIN:STANDARD
TZOFFSETFROM:+0200
TZOFFSETTO:+0100
TZNAME:CET
DTSTART:20251026T010000
END:STANDARD
BEGIN:DAYLIGHT
TZOFFSETFROM:+0100
TZOFFSETTO:+0200
TZNAME:CEST
DTSTART:20260329T010000
END:DAYLIGHT
BEGIN:STANDARD
TZOFFSETFROM:+0200
TZOFFSETTO:+0100
TZNAME:CET
DTSTART:20261025T010000
END:STANDARD
END:VTIMEZONE
BEGIN:VEVENT
DTSTART;TZID=Europe/Berlin:20250622T080000
DTEND;TZID=Europe/Berlin:20250629T170000
DTSTAMP:20260421T135854
CREATED:20241031T130357Z
LAST-MODIFIED:20241031T130357Z
UID:14061-1750579200-1751216400@igs-herder.de
SUMMARY:Raus aus der Schule
DESCRIPTION:Jahrgang 8 führt das Herausforderungsprojekt in diesem Zeitraum durch.
URL:https://igs-herder.de/event/raus-aus-der-schule/
END:VEVENT
BEGIN:VEVENT
DTSTART;TZID=Europe/Berlin:20250626T193000
DTEND;TZID=Europe/Berlin:20250626T210000
DTSTAMP:20260421T135854
CREATED:20241107T091937Z
LAST-MODIFIED:20250203T070047Z
UID:14184-1750966200-1750971600@igs-herder.de
SUMMARY:FÖV
DESCRIPTION:
URL:https://igs-herder.de/event/foev-7/
CATEGORIES:Sonstiges
END:VEVENT
END:VCALENDAR