BEGIN:VCALENDAR
VERSION:2.0
PRODID:-//IGS Herder - ECPv6.15.20//NONSGML v1.0//EN
CALSCALE:GREGORIAN
METHOD:PUBLISH
X-ORIGINAL-URL:https://igs-herder.de
X-WR-CALDESC:Veranstaltungen für IGS Herder
REFRESH-INTERVAL;VALUE=DURATION:PT1H
X-Robots-Tag:noindex
X-PUBLISHED-TTL:PT1H
BEGIN:VTIMEZONE
TZID:UTC
BEGIN:STANDARD
TZOFFSETFROM:+0000
TZOFFSETTO:+0000
TZNAME:UTC
DTSTART:20220101T000000
END:STANDARD
END:VTIMEZONE
BEGIN:VEVENT
DTSTART;TZID=UTC:20230426T180000
DTEND;TZID=UTC:20230426T213000
DTSTAMP:20260423T105538
CREATED:20230326T121503Z
LAST-MODIFIED:20230426T074142Z
UID:8066-1682532000-1682544600@igs-herder.de
SUMMARY:Infoabend Übergang 6/7
DESCRIPTION:
URL:https://igs-herder.de/event/infoabend-uebergang-6-7/
END:VEVENT
END:VCALENDAR