BEGIN:VCALENDAR
VERSION:2.0
PRODID:-//IGS Herder - ECPv6.15.20//NONSGML v1.0//EN
CALSCALE:GREGORIAN
METHOD:PUBLISH
X-WR-CALNAME:IGS Herder
X-ORIGINAL-URL:https://igs-herder.de
X-WR-CALDESC:Veranstaltungen für IGS Herder
REFRESH-INTERVAL;VALUE=DURATION:PT1H
X-Robots-Tag:noindex
X-PUBLISHED-TTL:PT1H
BEGIN:VTIMEZONE
TZID:UTC
BEGIN:STANDARD
TZOFFSETFROM:+0000
TZOFFSETTO:+0000
TZNAME:UTC
DTSTART:20220101T000000
END:STANDARD
END:VTIMEZONE
BEGIN:VEVENT
DTSTART;TZID=UTC:20231204T080000
DTEND;TZID=UTC:20231215T170000
DTSTAMP:20260422T224735
CREATED:20231103T192233Z
LAST-MODIFIED:20231103T192235Z
UID:9819-1701676800-1702659600@igs-herder.de
SUMMARY:Betriebspraktikum des Jg. 9
DESCRIPTION:
URL:https://igs-herder.de/event/betriebspraktikum-des-jg-9/
END:VEVENT
BEGIN:VEVENT
DTSTART;TZID=UTC:20231206T023000
DTEND;TZID=UTC:20231206T170000
DTSTAMP:20260422T224735
CREATED:20231103T142406Z
LAST-MODIFIED:20231103T192018Z
UID:9790-1701829800-1701882000@igs-herder.de
SUMMARY:Gesamtkonferenz
DESCRIPTION:
URL:https://igs-herder.de/event/gesamtkonferenz/
END:VEVENT
BEGIN:VEVENT
DTSTART;TZID=UTC:20231206T193000
DTEND;TZID=UTC:20231206T210000
DTSTAMP:20260422T224735
CREATED:20231103T042821Z
LAST-MODIFIED:20231103T042823Z
UID:9743-1701891000-1701896400@igs-herder.de
SUMMARY:Übergang 9/10
DESCRIPTION:Elterninformationsveranstaltung in der Aula
URL:https://igs-herder.de/event/uebergang-9-10/
END:VEVENT
BEGIN:VEVENT
DTSTART;TZID=UTC:20231207T193000
DTEND;TZID=UTC:20231207T210000
DTSTAMP:20260422T224735
CREATED:20231103T042603Z
LAST-MODIFIED:20231103T042605Z
UID:9741-1701977400-1701982800@igs-herder.de
SUMMARY:Fördervereinssitzung
DESCRIPTION:
URL:https://igs-herder.de/event/foerdervereinssitzung-4/
END:VEVENT
BEGIN:VEVENT
DTSTART;TZID=UTC:20231211T080000
DTEND;TZID=UTC:20231215T170000
DTSTAMP:20260422T224735
CREATED:20231103T190423Z
LAST-MODIFIED:20231103T190425Z
UID:9795-1702281600-1702659600@igs-herder.de
SUMMARY:Kuprawechsel Jg. 5 & 6
DESCRIPTION:
URL:https://igs-herder.de/event/kuprawechsel-jg-5-6/
END:VEVENT
BEGIN:VEVENT
DTSTART;TZID=UTC:20231212T080000
DTEND;TZID=UTC:20231213T170000
DTSTAMP:20260422T224735
CREATED:20231103T040730Z
LAST-MODIFIED:20231103T040732Z
UID:9709-1702368000-1702486800@igs-herder.de
SUMMARY:Präsentationsprüfungen des Jg. 10
DESCRIPTION:
URL:https://igs-herder.de/event/praesentationspruefungen-des-jg-10/
END:VEVENT
BEGIN:VEVENT
DTSTART;TZID=UTC:20231219T080000
DTEND;TZID=UTC:20231219T170000
DTSTAMP:20260422T224735
CREATED:20231103T040836Z
LAST-MODIFIED:20231103T040838Z
UID:9711-1702972800-1703005200@igs-herder.de
SUMMARY:Adventsevent Jg. 5
DESCRIPTION:Der CVJM lädt ein zu einer besonderen Adventsveranstaltung!
URL:https://igs-herder.de/event/adventsevent-jg-5/
END:VEVENT
BEGIN:VEVENT
DTSTART;TZID=UTC:20231220T080000
DTEND;TZID=UTC:20231220T170000
DTSTAMP:20260422T224735
CREATED:20231103T041003Z
LAST-MODIFIED:20231103T041005Z
UID:9713-1703059200-1703091600@igs-herder.de
SUMMARY:Adventsevent Jg. 6
DESCRIPTION:
URL:https://igs-herder.de/event/adventsevent-jg-6/
END:VEVENT
BEGIN:VEVENT
DTSTART;TZID=UTC:20231222T080000
DTEND;TZID=UTC:20231222T170000
DTSTAMP:20260422T224735
CREATED:20231103T190532Z
LAST-MODIFIED:20231103T190534Z
UID:9797-1703232000-1703264400@igs-herder.de
SUMMARY:Weihnachtsferienbeginn
DESCRIPTION:Unterrichtsschluss um 11 Uhr
URL:https://igs-herder.de/event/weihnachtsferienbeginn/
END:VEVENT
BEGIN:VEVENT
DTSTART;TZID=UTC:20231223T080000
DTEND;TZID=UTC:20240114T170000
DTSTAMP:20260422T224735
CREATED:20231103T041100Z
LAST-MODIFIED:20231103T041102Z
UID:9715-1703318400-1705251600@igs-herder.de
SUMMARY:Weihnachtsferien
DESCRIPTION:
URL:https://igs-herder.de/event/weihnachtsferien/
END:VEVENT
END:VCALENDAR