BEGIN:VCALENDAR
VERSION:2.0
PRODID:-//IGS Herder - ECPv6.15.20//NONSGML v1.0//EN
CALSCALE:GREGORIAN
METHOD:PUBLISH
X-WR-CALNAME:IGS Herder
X-ORIGINAL-URL:https://igs-herder.de
X-WR-CALDESC:Veranstaltungen für IGS Herder
REFRESH-INTERVAL;VALUE=DURATION:PT1H
X-Robots-Tag:noindex
X-PUBLISHED-TTL:PT1H
BEGIN:VTIMEZONE
TZID:UTC
BEGIN:STANDARD
TZOFFSETFROM:+0000
TZOFFSETTO:+0000
TZNAME:UTC
DTSTART:20220101T000000
END:STANDARD
END:VTIMEZONE
BEGIN:VEVENT
DTSTART;TZID=UTC:20231223T080000
DTEND;TZID=UTC:20240114T170000
DTSTAMP:20260422T211556
CREATED:20231103T041100Z
LAST-MODIFIED:20231103T041102Z
UID:9715-1703318400-1705251600@igs-herder.de
SUMMARY:Weihnachtsferien
DESCRIPTION:
URL:https://igs-herder.de/event/weihnachtsferien/
END:VEVENT
BEGIN:VEVENT
DTSTART;TZID=UTC:20240118T193000
DTEND;TZID=UTC:20240118T210000
DTSTAMP:20260422T211556
CREATED:20231103T190616Z
LAST-MODIFIED:20231103T190618Z
UID:9799-1705606200-1705611600@igs-herder.de
SUMMARY:Fördervereinssitzung
DESCRIPTION:
URL:https://igs-herder.de/event/foerdervereinssitzung-5/
END:VEVENT
BEGIN:VEVENT
DTSTART;TZID=UTC:20240125T193000
DTEND;TZID=UTC:20240125T210000
DTSTAMP:20260422T211556
CREATED:20231103T190707Z
LAST-MODIFIED:20231103T190709Z
UID:9801-1706211000-1706216400@igs-herder.de
SUMMARY:Schulelternbeiratssitzung
DESCRIPTION:
URL:https://igs-herder.de/event/schulelternbeiratssitzung-2/
END:VEVENT
END:VCALENDAR