BEGIN:VCALENDAR
VERSION:2.0
PRODID:-//IGS Herder - ECPv6.15.20//NONSGML v1.0//EN
CALSCALE:GREGORIAN
METHOD:PUBLISH
X-WR-CALNAME:IGS Herder
X-ORIGINAL-URL:https://igs-herder.de
X-WR-CALDESC:Veranstaltungen für IGS Herder
REFRESH-INTERVAL;VALUE=DURATION:PT1H
X-Robots-Tag:noindex
X-PUBLISHED-TTL:PT1H
BEGIN:VTIMEZONE
TZID:UTC
BEGIN:STANDARD
TZOFFSETFROM:+0000
TZOFFSETTO:+0000
TZNAME:UTC
DTSTART:20230101T000000
END:STANDARD
END:VTIMEZONE
BEGIN:VEVENT
DTSTART;TZID=UTC:20240201T193000
DTEND;TZID=UTC:20240201T210000
DTSTAMP:20260422T153954
CREATED:20231103T190830Z
LAST-MODIFIED:20231103T190906Z
UID:9803-1706815800-1706821200@igs-herder.de
SUMMARY:Fördervereinssitzung
DESCRIPTION:
URL:https://igs-herder.de/event/foerdervereinssitzung-6/
END:VEVENT
BEGIN:VEVENT
DTSTART;TZID=UTC:20240202T080000
DTEND;TZID=UTC:20240202T110000
DTSTAMP:20260422T153954
CREATED:20230228T121016Z
LAST-MODIFIED:20231102T063459Z
UID:7595-1706860800-1706871600@igs-herder.de
SUMMARY:Zeugnisausgabe
DESCRIPTION:
URL:https://igs-herder.de/event/zeugnisausgabe-2/
END:VEVENT
BEGIN:VEVENT
DTSTART;TZID=UTC:20240206T080000
DTEND;TZID=UTC:20240206T200000
DTSTAMP:20260422T153954
CREATED:20231103T192611Z
LAST-MODIFIED:20231205T081726Z
UID:9821-1707206400-1707249600@igs-herder.de
SUMMARY:Beratungsgespräche
DESCRIPTION:An diesem Tag findet ein Studientag statt\, d.h.\, dass die Schüler*innen Aufträge zur Bearbeitung zu Hause bekommen\, die sie erledigen müssen. Jedes Kind kommt mit seinen Erziehungsberechtigten zu einem Termin zu einem Gespräch.
URL:https://igs-herder.de/event/beratungsgespraeche/
END:VEVENT
BEGIN:VEVENT
DTSTART;TZID=UTC:20240207T143000
DTEND;TZID=UTC:20240207T190000
DTSTAMP:20260422T153954
CREATED:20231103T192723Z
LAST-MODIFIED:20231205T082001Z
UID:9823-1707316200-1707332400@igs-herder.de
SUMMARY:Beratungsgespräche
DESCRIPTION:Jedes Kind kommt mit seinen Erziehungsberechtigten zu einem Termin zu einem Gespräch. Die Termine werden nach einer vorherigen Abfrage durch die Klassenlehrer*innen übermittelt.
URL:https://igs-herder.de/event/beratungsgespraeche-2/
END:VEVENT
BEGIN:VEVENT
DTSTART;TZID=UTC:20240221T193000
DTEND;TZID=UTC:20240221T210000
DTSTAMP:20260422T153954
CREATED:20230221T134056Z
LAST-MODIFIED:20231205T082219Z
UID:7514-1708543800-1708549200@igs-herder.de
SUMMARY:Infoabend neuer Jahrgang 5
DESCRIPTION:Sie sind interessiert daran\, Ihr Kind nach der 4. Klasse an der IGS Herder anzumelden? Sie haben Fragen zur Schule? Dann sind Sie herzlich willkommen auf unserem Infoabend für neue potentielle Schüler*innen. Wir freuen uns auf Sie!
URL:https://igs-herder.de/event/infoabend-jahrgang-5/
END:VEVENT
BEGIN:VEVENT
DTSTART;TZID=UTC:20240227T170000
DTEND;TZID=UTC:20240227T183000
DTSTAMP:20260422T153954
CREATED:20231103T191146Z
LAST-MODIFIED:20231103T191148Z
UID:9807-1709053200-1709058600@igs-herder.de
SUMMARY:Schulkonferenz
DESCRIPTION:
URL:https://igs-herder.de/event/schulkonferenz/
END:VEVENT
BEGIN:VEVENT
DTSTART;TZID=UTC:20240228T143000
DTEND;TZID=UTC:20240228T170000
DTSTAMP:20260422T153954
CREATED:20231103T191100Z
LAST-MODIFIED:20231103T191102Z
UID:9805-1709130600-1709139600@igs-herder.de
SUMMARY:Geko 4
DESCRIPTION:
URL:https://igs-herder.de/event/geko-4/
END:VEVENT
END:VCALENDAR