BEGIN:VCALENDAR
VERSION:2.0
PRODID:-//IGS Herder - ECPv6.15.20//NONSGML v1.0//EN
CALSCALE:GREGORIAN
METHOD:PUBLISH
X-ORIGINAL-URL:https://igs-herder.de
X-WR-CALDESC:Veranstaltungen für IGS Herder
REFRESH-INTERVAL;VALUE=DURATION:PT1H
X-Robots-Tag:noindex
X-PUBLISHED-TTL:PT1H
BEGIN:VTIMEZONE
TZID:UTC
BEGIN:STANDARD
TZOFFSETFROM:+0000
TZOFFSETTO:+0000
TZNAME:UTC
DTSTART:20230101T000000
END:STANDARD
END:VTIMEZONE
BEGIN:VEVENT
DTSTART;TZID=UTC:20240306T193000
DTEND;TZID=UTC:20240306T210000
DTSTAMP:20260422T123829
CREATED:20231103T193021Z
LAST-MODIFIED:20231103T193023Z
UID:9825-1709753400-1709758800@igs-herder.de
SUMMARY:Elterninformationsveranstaltung Übergang 8/9
DESCRIPTION:
URL:https://igs-herder.de/event/elterninformationsveranstaltung-uebergang-8-9/
END:VEVENT
BEGIN:VEVENT
DTSTART;TZID=UTC:20240307T193000
DTEND;TZID=UTC:20240307T210000
DTSTAMP:20260422T123829
CREATED:20231103T193117Z
LAST-MODIFIED:20231103T193120Z
UID:9827-1709839800-1709845200@igs-herder.de
SUMMARY:Fördervereinssitzung
DESCRIPTION:
URL:https://igs-herder.de/event/foerdervereinssitzung-7/
END:VEVENT
BEGIN:VEVENT
DTSTART;TZID=UTC:20240311T080000
DTEND;TZID=UTC:20240315T170000
DTSTAMP:20260422T123829
CREATED:20231103T193255Z
LAST-MODIFIED:20231103T193308Z
UID:9829-1710144000-1710522000@igs-herder.de
SUMMARY:Kuprawechsel 5&6
DESCRIPTION:
URL:https://igs-herder.de/event/kuprawechsel-56/
END:VEVENT
BEGIN:VEVENT
DTSTART;TZID=UTC:20240311T080000
DTEND;TZID=UTC:20240322T080000
DTSTAMP:20260422T123829
CREATED:20230307T130445Z
LAST-MODIFIED:20231102T064704Z
UID:7870-1710144000-1711094400@igs-herder.de
SUMMARY:Betriebspraktikum Jahrgang 8
DESCRIPTION:
URL:https://igs-herder.de/event/betriebspraktikum-jahrgang-8/
END:VEVENT
BEGIN:VEVENT
DTSTART;TZID=UTC:20240318T080000
DTEND;TZID=UTC:20240322T110000
DTSTAMP:20260422T123829
CREATED:20230326T120414Z
LAST-MODIFIED:20231205T082523Z
UID:8059-1710748800-1711105200@igs-herder.de
SUMMARY:Schulweite Zeitzone "Main Frankfurt"
DESCRIPTION:In diesem Jahr geht es rund um unseren Wohnort Frankfurt in unserer jahrgangsübergreifenden Zeitzone. Wir freuen uns auf tolle Projekte.
URL:https://igs-herder.de/event/schulweite-zeitzone/
END:VEVENT
BEGIN:VEVENT
DTSTART;TZID=UTC:20240323T080000
DTEND;TZID=UTC:20240413T170000
DTSTAMP:20260422T123829
CREATED:20231103T041221Z
LAST-MODIFIED:20231103T041222Z
UID:9717-1711180800-1713027600@igs-herder.de
SUMMARY:Osterferien
DESCRIPTION:
URL:https://igs-herder.de/event/osterferien/
END:VEVENT
END:VCALENDAR