BEGIN:VCALENDAR
VERSION:2.0
PRODID:-//IGS Herder - ECPv6.15.20//NONSGML v1.0//EN
CALSCALE:GREGORIAN
METHOD:PUBLISH
X-WR-CALNAME:IGS Herder
X-ORIGINAL-URL:https://igs-herder.de
X-WR-CALDESC:Veranstaltungen für IGS Herder
REFRESH-INTERVAL;VALUE=DURATION:PT1H
X-Robots-Tag:noindex
X-PUBLISHED-TTL:PT1H
BEGIN:VTIMEZONE
TZID:UTC
BEGIN:STANDARD
TZOFFSETFROM:+0000
TZOFFSETTO:+0000
TZNAME:UTC
DTSTART:20230101T000000
END:STANDARD
END:VTIMEZONE
BEGIN:VEVENT
DTSTART;TZID=UTC:20240501T080000
DTEND;TZID=UTC:20240501T170000
DTSTAMP:20260420T095124
CREATED:20231103T041312Z
LAST-MODIFIED:20231103T041314Z
UID:9719-1714550400-1714582800@igs-herder.de
SUMMARY:Tag der Arbeit - unterrichtsfrei
DESCRIPTION:
URL:https://igs-herder.de/event/tag-der-arbeit-unterrichtsfrei/
END:VEVENT
BEGIN:VEVENT
DTSTART;TZID=UTC:20240502T193000
DTEND;TZID=UTC:20240502T210000
DTSTAMP:20260420T095124
CREATED:20231103T193647Z
LAST-MODIFIED:20231103T193649Z
UID:9831-1714678200-1714683600@igs-herder.de
SUMMARY:Fördervereinssitzung
DESCRIPTION:
URL:https://igs-herder.de/event/foerdervereinssitzung-8/
END:VEVENT
BEGIN:VEVENT
DTSTART;TZID=UTC:20240509T080000
DTEND;TZID=UTC:20240510T170000
DTSTAMP:20260420T095124
CREATED:20231103T041409Z
LAST-MODIFIED:20231103T041411Z
UID:9721-1715241600-1715360400@igs-herder.de
SUMMARY:Christi Himmelfahrt + beweglicher Ferientag
DESCRIPTION:
URL:https://igs-herder.de/event/christi-himmelfahrt-beweglicher-ferientag/
END:VEVENT
BEGIN:VEVENT
DTSTART;TZID=UTC:20240520T080000
DTEND;TZID=UTC:20240520T170000
DTSTAMP:20260420T095124
CREATED:20231103T041449Z
LAST-MODIFIED:20231103T043154Z
UID:9723-1716192000-1716224400@igs-herder.de
SUMMARY:Pfingstmontag - unterrichtsfrei
DESCRIPTION:
URL:https://igs-herder.de/event/pfingstmontag-unterrichtsfrei/
END:VEVENT
BEGIN:VEVENT
DTSTART;TZID=UTC:20240523T180000
DTEND;TZID=UTC:20240523T193000
DTSTAMP:20260420T095124
CREATED:20231103T193856Z
LAST-MODIFIED:20231219T125924Z
UID:9833-1716487200-1716492600@igs-herder.de
SUMMARY:Open Stage
DESCRIPTION:Jetzt heißt es wieder: Open Stage! Hier könnt ihr zeigen\, was ihr könnt. Wir freuen uns auf euch!
URL:https://igs-herder.de/event/open-stage-2/
END:VEVENT
BEGIN:VEVENT
DTSTART;TZID=UTC:20240530T080000
DTEND;TZID=UTC:20240531T170000
DTSTAMP:20260420T095124
CREATED:20231103T041543Z
LAST-MODIFIED:20231103T041544Z
UID:9725-1717056000-1717174800@igs-herder.de
SUMMARY:Fronleichnam + beweglicher Ferientag
DESCRIPTION:
URL:https://igs-herder.de/event/fronleichnam-beweglicher-ferientag/
END:VEVENT
END:VCALENDAR