BEGIN:VCALENDAR
VERSION:2.0
PRODID:-//IGS Herder - ECPv6.15.20//NONSGML v1.0//EN
CALSCALE:GREGORIAN
METHOD:PUBLISH
X-ORIGINAL-URL:https://igs-herder.de
X-WR-CALDESC:Veranstaltungen für IGS Herder
REFRESH-INTERVAL;VALUE=DURATION:PT1H
X-Robots-Tag:noindex
X-PUBLISHED-TTL:PT1H
BEGIN:VTIMEZONE
TZID:UTC
BEGIN:STANDARD
TZOFFSETFROM:+0000
TZOFFSETTO:+0000
TZNAME:UTC
DTSTART:20230101T000000
END:STANDARD
END:VTIMEZONE
BEGIN:VEVENT
DTSTART;TZID=UTC:20240702T130000
DTEND;TZID=UTC:20240702T180000
DTSTAMP:20260420T065601
CREATED:20240621T041625Z
LAST-MODIFIED:20240621T041625Z
UID:13039-1719925200-1719943200@igs-herder.de
SUMMARY:Zeugniskonferenz 6 und 8
DESCRIPTION:
URL:https://igs-herder.de/event/zeugniskonferenz-6-und-8/
END:VEVENT
BEGIN:VEVENT
DTSTART;TZID=UTC:20240704T193000
DTEND;TZID=UTC:20240704T200000
DTSTAMP:20260420T065601
CREATED:20231103T194446Z
LAST-MODIFIED:20240621T041247Z
UID:9845-1720121400-1720123200@igs-herder.de
SUMMARY:Förderverein
DESCRIPTION:
URL:https://igs-herder.de/event/foerderverein/
END:VEVENT
BEGIN:VEVENT
DTSTART;TZID=UTC:20240704T193000
DTEND;TZID=UTC:20240704T210000
DTSTAMP:20260420T065601
CREATED:20231103T194653Z
LAST-MODIFIED:20231103T194656Z
UID:9849-1720121400-1720126800@igs-herder.de
SUMMARY:Fördervereinssitzung
DESCRIPTION:
URL:https://igs-herder.de/event/foerdervereinssitzung-9/
END:VEVENT
BEGIN:VEVENT
DTSTART;TZID=UTC:20240705T170000
DTEND;TZID=UTC:20240705T183000
DTSTAMP:20260420T065601
CREATED:20230228T120245Z
LAST-MODIFIED:20231102T063544Z
UID:7591-1720198800-1720204200@igs-herder.de
SUMMARY:Entlassfeier 9/10
DESCRIPTION:
URL:https://igs-herder.de/event/entlassfeier-9-10/
END:VEVENT
BEGIN:VEVENT
DTSTART;TZID=UTC:20240709T183000
DTEND;TZID=UTC:20240709T200000
DTSTAMP:20260420T065601
CREATED:20231103T194934Z
LAST-MODIFIED:20231103T194936Z
UID:9852-1720549800-1720555200@igs-herder.de
SUMMARY:Elternabend neue 5
DESCRIPTION:Eltern der neuen 5. Klässler*innen sind herzlich willkommen in der Aula der IGS Herder.
URL:https://igs-herder.de/event/elternabend-neue-5/
END:VEVENT
BEGIN:VEVENT
DTSTART;TZID=UTC:20240712T081500
DTEND;TZID=UTC:20240712T110000
DTSTAMP:20260420T065601
CREATED:20230228T120915Z
LAST-MODIFIED:20231102T064959Z
UID:7593-1720772100-1720782000@igs-herder.de
SUMMARY:Zeugnisausgabe
DESCRIPTION:
URL:https://igs-herder.de/event/zeugnisausgabe/
END:VEVENT
BEGIN:VEVENT
DTSTART;TZID=UTC:20240713T080000
DTEND;TZID=UTC:20240825T170000
DTSTAMP:20260420T065601
CREATED:20231103T041637Z
LAST-MODIFIED:20231103T041640Z
UID:9727-1720857600-1724605200@igs-herder.de
SUMMARY:Sommerferien
DESCRIPTION:
URL:https://igs-herder.de/event/sommerferien/
END:VEVENT
END:VCALENDAR