BEGIN:VCALENDAR
VERSION:2.0
PRODID:-//IGS Herder - ECPv6.15.20//NONSGML v1.0//EN
CALSCALE:GREGORIAN
METHOD:PUBLISH
X-ORIGINAL-URL:https://igs-herder.de
X-WR-CALDESC:Veranstaltungen für IGS Herder
REFRESH-INTERVAL;VALUE=DURATION:PT1H
X-Robots-Tag:noindex
X-PUBLISHED-TTL:PT1H
BEGIN:VTIMEZONE
TZID:UTC
BEGIN:STANDARD
TZOFFSETFROM:+0000
TZOFFSETTO:+0000
TZNAME:UTC
DTSTART:20230101T000000
END:STANDARD
END:VTIMEZONE
BEGIN:VEVENT
DTSTART;TZID=UTC:20240713T080000
DTEND;TZID=UTC:20240825T170000
DTSTAMP:20260420T054801
CREATED:20231103T041637Z
LAST-MODIFIED:20231103T041640Z
UID:9727-1720857600-1724605200@igs-herder.de
SUMMARY:Sommerferien
DESCRIPTION:
URL:https://igs-herder.de/event/sommerferien/
END:VEVENT
BEGIN:VEVENT
DTSTART;TZID=UTC:20240825T080000
DTEND;TZID=UTC:20240825T160000
DTSTAMP:20260420T054801
CREATED:20231103T071745Z
LAST-MODIFIED:20240822T084710Z
UID:9746-1724572800-1724601600@igs-herder.de
SUMMARY:1. Schultag nach den Sommerferien
DESCRIPTION:& 2. Block Klassenlehrer*innenunterricht\, dann nach Plan
URL:https://igs-herder.de/event/schulbeginn/
END:VEVENT
BEGIN:VEVENT
DTSTART;TZID=UTC:20240826T080000
DTEND;TZID=UTC:20240906T170000
DTSTAMP:20260420T054801
CREATED:20240822T061603Z
LAST-MODIFIED:20240823T180153Z
UID:13289-1724659200-1725642000@igs-herder.de
SUMMARY:Bücherausgabe (alle Jahrgänge)
DESCRIPTION:Bitte beachten Sie: Sollten noch Bücher nicht zurückgegeben worden sein oder Beträge zur Bezahlung ausstehen\, können Ihre Kinder keine neuen Bücher ausgehändigt bekommen. Bitte vergessene Bücher oder Überweisungsnachweise oder den passenden Betrag in bar daher mitbringen.
URL:https://igs-herder.de/event/buecherausgabe-alle-jahrgaenge/
END:VEVENT
BEGIN:VEVENT
DTSTART;TZID=UTC:20240827T140000
DTEND;TZID=UTC:20240827T160000
DTSTAMP:20260420T054801
CREATED:20231103T071925Z
LAST-MODIFIED:20240825T090859Z
UID:9748-1724767200-1724774400@igs-herder.de
SUMMARY:Einschulungsfeier für die neuen 5. Klassen
DESCRIPTION:Die Einschulungsfeier der neuen 5er findet um 14 Uhr in der Aula der IGS Herder statt. Herzlich willkommen!
URL:https://igs-herder.de/event/einschulung/
END:VEVENT
BEGIN:VEVENT
DTSTART;TZID=UTC:20240829T193000
DTEND;TZID=UTC:20240829T210000
DTSTAMP:20260420T054801
CREATED:20240822T044340Z
LAST-MODIFIED:20240825T175602Z
UID:13208-1724959800-1724965200@igs-herder.de
SUMMARY:Fördervereinssitzung
DESCRIPTION:
URL:https://igs-herder.de/event/foerdervereinssitzung-10/
END:VEVENT
BEGIN:VEVENT
DTSTART;TZID=UTC:20240830T000000
DTEND;TZID=UTC:20240830T235959
DTSTAMP:20260420T054801
CREATED:20240822T050306Z
LAST-MODIFIED:20240825T090955Z
UID:13222-1724976000-1725062399@igs-herder.de
SUMMARY:Jg. 10: Abgabe der Prüfungsthemen für die Realschulpräsentationsprüfung bei den Klassenlehrkräfte
DESCRIPTION:
URL:https://igs-herder.de/event/abgabe-der-pruefungsthemen-der-projektpruefung-des-jahrgangs-10-bei-den-klassenlehrerinnen/
END:VEVENT
END:VCALENDAR