BEGIN:VCALENDAR
VERSION:2.0
PRODID:-//IGS Herder - ECPv6.15.20//NONSGML v1.0//EN
CALSCALE:GREGORIAN
METHOD:PUBLISH
X-ORIGINAL-URL:https://igs-herder.de
X-WR-CALDESC:Veranstaltungen für IGS Herder
REFRESH-INTERVAL;VALUE=DURATION:PT1H
X-Robots-Tag:noindex
X-PUBLISHED-TTL:PT1H
BEGIN:VTIMEZONE
TZID:UTC
BEGIN:STANDARD
TZOFFSETFROM:+0000
TZOFFSETTO:+0000
TZNAME:UTC
DTSTART:20230101T000000
END:STANDARD
END:VTIMEZONE
BEGIN:VTIMEZONE
TZID:Europe/Berlin
BEGIN:DAYLIGHT
TZOFFSETFROM:+0100
TZOFFSETTO:+0200
TZNAME:CEST
DTSTART:20230326T010000
END:DAYLIGHT
BEGIN:STANDARD
TZOFFSETFROM:+0200
TZOFFSETTO:+0100
TZNAME:CET
DTSTART:20231029T010000
END:STANDARD
BEGIN:DAYLIGHT
TZOFFSETFROM:+0100
TZOFFSETTO:+0200
TZNAME:CEST
DTSTART:20240331T010000
END:DAYLIGHT
BEGIN:STANDARD
TZOFFSETFROM:+0200
TZOFFSETTO:+0100
TZNAME:CET
DTSTART:20241027T010000
END:STANDARD
BEGIN:DAYLIGHT
TZOFFSETFROM:+0100
TZOFFSETTO:+0200
TZNAME:CEST
DTSTART:20250330T010000
END:DAYLIGHT
BEGIN:STANDARD
TZOFFSETFROM:+0200
TZOFFSETTO:+0100
TZNAME:CET
DTSTART:20251026T010000
END:STANDARD
END:VTIMEZONE
BEGIN:VEVENT
DTSTART;TZID=UTC:20240826T080000
DTEND;TZID=UTC:20240906T170000
DTSTAMP:20260420T023523
CREATED:20240822T061603Z
LAST-MODIFIED:20240823T180153Z
UID:13289-1724659200-1725642000@igs-herder.de
SUMMARY:Bücherausgabe (alle Jahrgänge)
DESCRIPTION:Bitte beachten Sie: Sollten noch Bücher nicht zurückgegeben worden sein oder Beträge zur Bezahlung ausstehen\, können Ihre Kinder keine neuen Bücher ausgehändigt bekommen. Bitte vergessene Bücher oder Überweisungsnachweise oder den passenden Betrag in bar daher mitbringen.
URL:https://igs-herder.de/event/buecherausgabe-alle-jahrgaenge/
END:VEVENT
BEGIN:VEVENT
DTSTART;TZID=UTC:20240902T000000
DTEND;TZID=UTC:20240919T235959
DTSTAMP:20260420T023523
CREATED:20240822T062050Z
LAST-MODIFIED:20240822T084810Z
UID:13291-1725235200-1726790399@igs-herder.de
SUMMARY:Jg. 9: Hauptschulprojektprüfung - Vorbereitungsphase
DESCRIPTION:
URL:https://igs-herder.de/event/projektpruefung-jg-9-vorbereitungsphase/
END:VEVENT
BEGIN:VEVENT
DTSTART;TZID=Europe/Berlin:20240903T100000
DTEND;TZID=Europe/Berlin:20240903T143000
DTSTAMP:20260420T023523
CREATED:20240822T084931Z
LAST-MODIFIED:20240822T084931Z
UID:13302-1725357600-1725373800@igs-herder.de
SUMMARY:Jg. 9/10 Beginn Betriebs- und Praxistag
DESCRIPTION:
URL:https://igs-herder.de/event/jg-9-10-beginn-betriebs-und-praxistag/
END:VEVENT
BEGIN:VEVENT
DTSTART;TZID=UTC:20240906T000000
DTEND;TZID=UTC:20240906T235959
DTSTAMP:20260420T023523
CREATED:20240822T044830Z
LAST-MODIFIED:20240822T044830Z
UID:13210-1725580800-1725667199@igs-herder.de
SUMMARY:Abgabefrist für Widersprüche zu Einstufungen E/G bei Stufenleitung
DESCRIPTION:
URL:https://igs-herder.de/event/abgabefrist-fuer-widersprueche-zu-einstufungen-e-g-bei-stufenleitung/
END:VEVENT
BEGIN:VEVENT
DTSTART;TZID=UTC:20240909T000000
DTEND;TZID=UTC:20240913T235959
DTSTAMP:20260420T023523
CREATED:20240822T061116Z
LAST-MODIFIED:20240825T091123Z
UID:13287-1725840000-1726271999@igs-herder.de
SUMMARY:Klassensprecherwahlen
DESCRIPTION:Wahlwoche! Die neuen Klassensprecherinnen und Klassensprecher werden in den Klassen gewählt.
URL:https://igs-herder.de/event/klassensprecherinnenwahlen/
END:VEVENT
BEGIN:VEVENT
DTSTART;TZID=UTC:20240909T080000
DTEND;TZID=UTC:20240919T170000
DTSTAMP:20260420T023523
CREATED:20240822T045000Z
LAST-MODIFIED:20240822T045000Z
UID:13212-1725868800-1726765200@igs-herder.de
SUMMARY:Schnupperkurse im Ganztagsangebot
DESCRIPTION:
URL:https://igs-herder.de/event/schnupperkurse-im-ganztagsangebot/
END:VEVENT
BEGIN:VEVENT
DTSTART;TZID=UTC:20240909T080000
DTEND;TZID=UTC:20240919T170000
DTSTAMP:20260420T023523
CREATED:20240822T062436Z
LAST-MODIFIED:20240822T062436Z
UID:13295-1725868800-1726765200@igs-herder.de
SUMMARY:Jg. 10 - Präsentationsprüfung Beratungsphase
DESCRIPTION:
URL:https://igs-herder.de/event/jg-10-praesentationspruefung-beratungsphase/
END:VEVENT
BEGIN:VEVENT
DTSTART;TZID=Europe/Berlin:20240911T190000
DTEND;TZID=Europe/Berlin:20240911T203000
DTSTAMP:20260420T023523
CREATED:20240822T085900Z
LAST-MODIFIED:20240822T085900Z
UID:13306-1726081200-1726086600@igs-herder.de
SUMMARY:Elternabende der Jg. 5 / 7 / 9
DESCRIPTION:Wahl der Elternbeiräte
URL:https://igs-herder.de/event/elternabende-der-jg-5-7-9/
END:VEVENT
BEGIN:VEVENT
DTSTART;TZID=UTC:20240913T080000
DTEND;TZID=UTC:20240913T080000
DTSTAMP:20260420T023523
CREATED:20240822T055904Z
LAST-MODIFIED:20240822T055904Z
UID:13276-1726214400-1726214400@igs-herder.de
SUMMARY:Beratungsgespräche
DESCRIPTION:Studientag
URL:https://igs-herder.de/event/beratungsgespraeche-3/
END:VEVENT
BEGIN:VEVENT
DTSTART;TZID=UTC:20240918T150000
DTEND;TZID=UTC:20240918T200000
DTSTAMP:20260420T023523
CREATED:20240822T055942Z
LAST-MODIFIED:20240822T055942Z
UID:13278-1726671600-1726689600@igs-herder.de
SUMMARY:Beratungsgespräche
DESCRIPTION:
URL:https://igs-herder.de/event/beratungsgespraeche-4/
END:VEVENT
BEGIN:VEVENT
DTSTART;TZID=UTC:20240918T190000
DTEND;TZID=UTC:20240918T203000
DTSTAMP:20260420T023523
CREATED:20240822T060229Z
LAST-MODIFIED:20240822T063447Z
UID:13281-1726686000-1726691400@igs-herder.de
SUMMARY:Schulelternbeiratssitzung
DESCRIPTION:
URL:https://igs-herder.de/event/schulelternbeiratssitzung-7/
END:VEVENT
BEGIN:VEVENT
DTSTART;TZID=UTC:20240919T080000
DTEND;TZID=UTC:20240919T170000
DTSTAMP:20260420T023523
CREATED:20240822T062252Z
LAST-MODIFIED:20240822T062252Z
UID:13293-1726732800-1726765200@igs-herder.de
SUMMARY:Jg. 9 - Abgabe der Prüfungsthemen für die Hauptschulprojektprüfung bei der SL
DESCRIPTION:
URL:https://igs-herder.de/event/jg-9-abgabe-der-pruefungsthemen-fuer-die-hauptschulprojektpruefung-bei-der-sl/
END:VEVENT
BEGIN:VEVENT
DTSTART;TZID=UTC:20240920T000000
DTEND;TZID=UTC:20240920T235959
DTSTAMP:20260420T023523
CREATED:20240822T061013Z
LAST-MODIFIED:20240822T085549Z
UID:13285-1726790400-1726876799@igs-herder.de
SUMMARY:Jg. 10: Meldung zur Realschulpräsentationsprüfung
DESCRIPTION:
URL:https://igs-herder.de/event/meldung-zur-muendlichen-realschulpruefung-jg-10/
END:VEVENT
BEGIN:VEVENT
DTSTART;TZID=UTC:20240920T140000
DTEND;TZID=UTC:20240920T160000
DTSTAMP:20260420T023523
CREATED:20240822T060345Z
LAST-MODIFIED:20240919T155043Z
UID:13283-1726840800-1726848000@igs-herder.de
SUMMARY:Schulfest
DESCRIPTION:
URL:https://igs-herder.de/event/schulfest/
END:VEVENT
BEGIN:VEVENT
DTSTART;TZID=UTC:20240923T000000
DTEND;TZID=UTC:20240927T235959
DTSTAMP:20260420T023523
CREATED:20240822T045805Z
LAST-MODIFIED:20240822T045805Z
UID:13214-1727049600-1727481599@igs-herder.de
SUMMARY:1. Zeitzone
DESCRIPTION:Themen der 1. Zeitzone:  \n\n\n\nJahrgang 5:  \n\n\n\nJahrgang 6:  \n\n\n\nJahrgang 7:  \n\n\n\nJahrgang 8: Berufsorientierung  \n\n\n\nJahrgang 9: Projektprüfung  \n\n\n\nJahrgang 10:
URL:https://igs-herder.de/event/1-zeitzone-2/
END:VEVENT
BEGIN:VEVENT
DTSTART;TZID=Europe/Berlin:20240923T000000
DTEND;TZID=Europe/Berlin:20240927T235959
DTSTAMP:20260420T023523
CREATED:20240822T090205Z
LAST-MODIFIED:20240822T090205Z
UID:13308-1727049600-1727481599@igs-herder.de
SUMMARY:Jg. 9: Hauptschulprojektprüfung Durchführungsphase
DESCRIPTION:
URL:https://igs-herder.de/event/jg-9-hauptschulprojektpruefung-durchfuehrungsphase/
END:VEVENT
BEGIN:VEVENT
DTSTART;TZID=UTC:20240925T143000
DTEND;TZID=UTC:20240925T170000
DTSTAMP:20260420T023523
CREATED:20240822T050004Z
LAST-MODIFIED:20240822T050004Z
UID:13218-1727274600-1727283600@igs-herder.de
SUMMARY:1. Gesamtkonferenz
DESCRIPTION:
URL:https://igs-herder.de/event/1-gesamtkonferenz/
END:VEVENT
BEGIN:VEVENT
DTSTART;TZID=UTC:20240925T190000
DTEND;TZID=UTC:20240925T203000
DTSTAMP:20260420T023523
CREATED:20240822T050109Z
LAST-MODIFIED:20240822T050109Z
UID:13220-1727290800-1727296200@igs-herder.de
SUMMARY:Elterninformationsabend: Übergang 9/10
DESCRIPTION:
URL:https://igs-herder.de/event/elterninformationsabend-uebergang-9-10/
END:VEVENT
BEGIN:VEVENT
DTSTART;TZID=Europe/Berlin:20240926T193000
DTEND;TZID=Europe/Berlin:20240926T210000
DTSTAMP:20260420T023523
CREATED:20240916T073108Z
LAST-MODIFIED:20240916T073108Z
UID:13849-1727379000-1727384400@igs-herder.de
SUMMARY:Planung der Herder - Party
DESCRIPTION:Liebe Eltern\,  \n\n\n\nwir würden uns freuen\, wenn wir Sie zahlreich gemeinsam mit dem Förderverein zur Planung der Herderparty in der Mensa begrüßen dürfen.
URL:https://igs-herder.de/event/planung-der-herder-party/
END:VEVENT
BEGIN:VEVENT
DTSTART;TZID=UTC:20240930T000000
DTEND;TZID=UTC:20240930T235959
DTSTAMP:20260420T023523
CREATED:20240822T045911Z
LAST-MODIFIED:20240822T090402Z
UID:13216-1727654400-1727740799@igs-herder.de
SUMMARY:Jg. 9: Präsentation der Hauptschulprojektprüfungen
DESCRIPTION:
URL:https://igs-herder.de/event/praesentation-der-projektpruefungen-des-jahrgangs-9/
END:VEVENT
BEGIN:VEVENT
DTSTART;TZID=UTC:20240930T143000
DTEND;TZID=UTC:20241001T160000
DTSTAMP:20260420T023523
CREATED:20240822T050511Z
LAST-MODIFIED:20240822T050511Z
UID:13226-1727706600-1727798400@igs-herder.de
SUMMARY:Beginn der Ganztagskurse
DESCRIPTION:
URL:https://igs-herder.de/event/beginn-der-ganztagskurse-2/
END:VEVENT
END:VCALENDAR