BEGIN:VCALENDAR
VERSION:2.0
PRODID:-//IGS Herder - ECPv6.15.20//NONSGML v1.0//EN
CALSCALE:GREGORIAN
METHOD:PUBLISH
X-ORIGINAL-URL:https://igs-herder.de
X-WR-CALDESC:Veranstaltungen für IGS Herder
REFRESH-INTERVAL;VALUE=DURATION:PT1H
X-Robots-Tag:noindex
X-PUBLISHED-TTL:PT1H
BEGIN:VTIMEZONE
TZID:UTC
BEGIN:STANDARD
TZOFFSETFROM:+0000
TZOFFSETTO:+0000
TZNAME:UTC
DTSTART:20230101T000000
END:STANDARD
END:VTIMEZONE
BEGIN:VEVENT
DTSTART;TZID=UTC:20240930T143000
DTEND;TZID=UTC:20241001T160000
DTSTAMP:20260420T010304
CREATED:20240822T050511Z
LAST-MODIFIED:20240822T050511Z
UID:13226-1727706600-1727798400@igs-herder.de
SUMMARY:Beginn der Ganztagskurse
DESCRIPTION:
URL:https://igs-herder.de/event/beginn-der-ganztagskurse-2/
END:VEVENT
BEGIN:VEVENT
DTSTART;TZID=UTC:20241001T170000
DTEND;TZID=UTC:20241001T183000
DTSTAMP:20260420T010304
CREATED:20240822T050406Z
LAST-MODIFIED:20240822T050406Z
UID:13224-1727802000-1727807400@igs-herder.de
SUMMARY:Schulkonferenz
DESCRIPTION:
URL:https://igs-herder.de/event/schulkonferenz-4/
END:VEVENT
BEGIN:VEVENT
DTSTART;TZID=UTC:20241004T000000
DTEND;TZID=UTC:20241004T235959
DTSTAMP:20260420T010304
CREATED:20231211T094737Z
LAST-MODIFIED:20231211T094740Z
UID:11667-1728000000-1728086399@igs-herder.de
SUMMARY:Beweglicher Ferientag
DESCRIPTION:
URL:https://igs-herder.de/event/beweglicher-ferientag/
END:VEVENT
BEGIN:VEVENT
DTSTART;TZID=UTC:20241009T190000
DTEND;TZID=UTC:20241009T203000
DTSTAMP:20260420T010304
CREATED:20240822T050619Z
LAST-MODIFIED:20240822T050619Z
UID:13228-1728500400-1728505800@igs-herder.de
SUMMARY:Elternabende der Jahrgänge 6/8/10
DESCRIPTION:
URL:https://igs-herder.de/event/elternabende-der-jahrgaenge-6-8-10/
END:VEVENT
BEGIN:VEVENT
DTSTART;TZID=UTC:20241010T193000
DTEND;TZID=UTC:20241010T210000
DTSTAMP:20260420T010304
CREATED:20240822T050720Z
LAST-MODIFIED:20240822T050720Z
UID:13230-1728588600-1728594000@igs-herder.de
SUMMARY:Jahreshauptversammlung des Fördervereins
DESCRIPTION:
URL:https://igs-herder.de/event/jahreshauptversammlung-des-foerdervereins/
END:VEVENT
BEGIN:VEVENT
DTSTART;TZID=UTC:20241014T000000
DTEND;TZID=UTC:20241025T235959
DTSTAMP:20260420T010304
CREATED:20240822T050932Z
LAST-MODIFIED:20240822T050932Z
UID:13233-1728864000-1729900799@igs-herder.de
SUMMARY:Herbstferien
DESCRIPTION:Unterrichtsschluss am 11.10.2024 um 11 Uhr
URL:https://igs-herder.de/event/herbstferien-2/
END:VEVENT
END:VCALENDAR