BEGIN:VCALENDAR
VERSION:2.0
PRODID:-//IGS Herder - ECPv6.15.20//NONSGML v1.0//EN
CALSCALE:GREGORIAN
METHOD:PUBLISH
X-ORIGINAL-URL:https://igs-herder.de
X-WR-CALDESC:Veranstaltungen für IGS Herder
REFRESH-INTERVAL;VALUE=DURATION:PT1H
X-Robots-Tag:noindex
X-PUBLISHED-TTL:PT1H
BEGIN:VTIMEZONE
TZID:Europe/Berlin
BEGIN:DAYLIGHT
TZOFFSETFROM:+0100
TZOFFSETTO:+0200
TZNAME:CEST
DTSTART:20230326T010000
END:DAYLIGHT
BEGIN:STANDARD
TZOFFSETFROM:+0200
TZOFFSETTO:+0100
TZNAME:CET
DTSTART:20231029T010000
END:STANDARD
BEGIN:DAYLIGHT
TZOFFSETFROM:+0100
TZOFFSETTO:+0200
TZNAME:CEST
DTSTART:20240331T010000
END:DAYLIGHT
BEGIN:STANDARD
TZOFFSETFROM:+0200
TZOFFSETTO:+0100
TZNAME:CET
DTSTART:20241027T010000
END:STANDARD
BEGIN:DAYLIGHT
TZOFFSETFROM:+0100
TZOFFSETTO:+0200
TZNAME:CEST
DTSTART:20250330T010000
END:DAYLIGHT
BEGIN:STANDARD
TZOFFSETFROM:+0200
TZOFFSETTO:+0100
TZNAME:CET
DTSTART:20251026T010000
END:STANDARD
BEGIN:DAYLIGHT
TZOFFSETFROM:+0100
TZOFFSETTO:+0200
TZNAME:CEST
DTSTART:20260329T010000
END:DAYLIGHT
BEGIN:STANDARD
TZOFFSETFROM:+0200
TZOFFSETTO:+0100
TZNAME:CET
DTSTART:20261025T010000
END:STANDARD
END:VTIMEZONE
BEGIN:VEVENT
DTSTART;TZID=Europe/Berlin:20241223T000000
DTEND;TZID=Europe/Berlin:20250110T235959
DTSTAMP:20260419T202407
CREATED:20241107T091932Z
LAST-MODIFIED:20241107T091932Z
UID:14148-1734912000-1736553599@igs-herder.de
SUMMARY:Ferien
DESCRIPTION:Weihnachtsfereien
URL:https://igs-herder.de/event/ferien/
CATEGORIES:Ferien und Freie Tage
END:VEVENT
BEGIN:VEVENT
DTSTART;TZID=Europe/Berlin:20250116T193000
DTEND;TZID=Europe/Berlin:20250116T210000
DTSTAMP:20260419T202407
CREATED:20241107T091932Z
LAST-MODIFIED:20241107T091932Z
UID:14150-1737055800-1737061200@igs-herder.de
SUMMARY:FÖV
DESCRIPTION:
URL:https://igs-herder.de/event/foev-3/
CATEGORIES:Sonstiges
END:VEVENT
BEGIN:VEVENT
DTSTART;TZID=Europe/Berlin:20250120T130000
DTEND;TZID=Europe/Berlin:20250120T180000
DTSTAMP:20260419T202407
CREATED:20241107T091932Z
LAST-MODIFIED:20241107T091932Z
UID:14151-1737378000-1737396000@igs-herder.de
SUMMARY:Jahrgang 5\, 7\, 9 unterrichtsfrei ab 13.00 Uhr
DESCRIPTION:
URL:https://igs-herder.de/event/jahrgang-5-7-9-unterrichtsfrei-ab-13-00-uhr/
CATEGORIES:Unterricht
END:VEVENT
BEGIN:VEVENT
DTSTART;TZID=Europe/Berlin:20250121T130000
DTEND;TZID=Europe/Berlin:20250121T180000
DTSTAMP:20260419T202407
CREATED:20241107T091932Z
LAST-MODIFIED:20241107T091932Z
UID:14152-1737464400-1737482400@igs-herder.de
SUMMARY:Jahrgang 6\, 8\, 10 unterrichtsfrei ab 13.00 Uhr
DESCRIPTION:
URL:https://igs-herder.de/event/jahrgang-6-8-10-unterrichtsfrei-ab-13-00-uhr/
CATEGORIES:Unterricht
END:VEVENT
BEGIN:VEVENT
DTSTART;TZID=Europe/Berlin:20250129T190000
DTEND;TZID=Europe/Berlin:20250129T210000
DTSTAMP:20260419T202407
CREATED:20241107T091932Z
LAST-MODIFIED:20241107T091932Z
UID:14153-1738177200-1738184400@igs-herder.de
SUMMARY:SEB
DESCRIPTION:
URL:https://igs-herder.de/event/seb-2/
CATEGORIES:Sonstiges
END:VEVENT
BEGIN:VEVENT
DTSTART;TZID=Europe/Berlin:20250131T000000
DTEND;TZID=Europe/Berlin:20250131T235959
DTSTAMP:20260419T202407
CREATED:20241107T091932Z
LAST-MODIFIED:20241107T091932Z
UID:14154-1738281600-1738367999@igs-herder.de
SUMMARY:Zeugnisausgabe/Unterrichtsschluss 11 Uhr
DESCRIPTION:Klassenunterricht ab 10.15 Uhr
URL:https://igs-herder.de/event/zeugnisausgabe-unterrichtsschluss-11-uhr/
CATEGORIES:Unterricht
END:VEVENT
END:VCALENDAR