BEGIN:VCALENDAR
VERSION:2.0
PRODID:-//IGS Herder - ECPv6.15.20//NONSGML v1.0//EN
CALSCALE:GREGORIAN
METHOD:PUBLISH
X-WR-CALNAME:IGS Herder
X-ORIGINAL-URL:https://igs-herder.de
X-WR-CALDESC:Veranstaltungen für IGS Herder
REFRESH-INTERVAL;VALUE=DURATION:PT1H
X-Robots-Tag:noindex
X-PUBLISHED-TTL:PT1H
BEGIN:VTIMEZONE
TZID:Europe/Berlin
BEGIN:DAYLIGHT
TZOFFSETFROM:+0100
TZOFFSETTO:+0200
TZNAME:CEST
DTSTART:20240331T010000
END:DAYLIGHT
BEGIN:STANDARD
TZOFFSETFROM:+0200
TZOFFSETTO:+0100
TZNAME:CET
DTSTART:20241027T010000
END:STANDARD
BEGIN:DAYLIGHT
TZOFFSETFROM:+0100
TZOFFSETTO:+0200
TZNAME:CEST
DTSTART:20250330T010000
END:DAYLIGHT
BEGIN:STANDARD
TZOFFSETFROM:+0200
TZOFFSETTO:+0100
TZNAME:CET
DTSTART:20251026T010000
END:STANDARD
BEGIN:DAYLIGHT
TZOFFSETFROM:+0100
TZOFFSETTO:+0200
TZNAME:CEST
DTSTART:20260329T010000
END:DAYLIGHT
BEGIN:STANDARD
TZOFFSETFROM:+0200
TZOFFSETTO:+0100
TZNAME:CET
DTSTART:20261025T010000
END:STANDARD
END:VTIMEZONE
BEGIN:VEVENT
DTSTART;TZID=Europe/Berlin:20250303T000000
DTEND;TZID=Europe/Berlin:20250303T235959
DTSTAMP:20260419T170437
CREATED:20241107T091933Z
LAST-MODIFIED:20250203T070044Z
UID:14159-1740960000-1741046399@igs-herder.de
SUMMARY:beweglicher Ferientag
DESCRIPTION:beweglicher Ferientag
URL:https://igs-herder.de/event/beweglicher-ferientag-2/
CATEGORIES:Ferien und Freie Tage
END:VEVENT
BEGIN:VEVENT
DTSTART;TZID=Europe/Berlin:20250305T000000
DTEND;TZID=Europe/Berlin:20250317T235959
DTSTAMP:20260419T170437
CREATED:20240822T094429Z
LAST-MODIFIED:20240822T094429Z
UID:13330-1741132800-1742255999@igs-herder.de
SUMMARY:"Starke Stücke" Festival
DESCRIPTION:
URL:https://igs-herder.de/event/starke-stuecke-festival/
END:VEVENT
BEGIN:VEVENT
DTSTART;TZID=Europe/Berlin:20250305T143000
DTEND;TZID=Europe/Berlin:20250305T170000
DTSTAMP:20260419T170437
CREATED:20240822T094133Z
LAST-MODIFIED:20240822T094133Z
UID:13326-1741185000-1741194000@igs-herder.de
SUMMARY:3. Gesamtkonferenz
DESCRIPTION:
URL:https://igs-herder.de/event/3-gesamtkonferenz/
END:VEVENT
BEGIN:VEVENT
DTSTART;TZID=Europe/Berlin:20250306T193000
DTEND;TZID=Europe/Berlin:20250306T210000
DTSTAMP:20260419T170437
CREATED:20240822T094251Z
LAST-MODIFIED:20240822T094251Z
UID:13328-1741289400-1741294800@igs-herder.de
SUMMARY:Fördervereinssitzung
DESCRIPTION:
URL:https://igs-herder.de/event/foerdervereinssitzung-15/
END:VEVENT
BEGIN:VEVENT
DTSTART;TZID=Europe/Berlin:20250312T190000
DTEND;TZID=Europe/Berlin:20250312T203000
DTSTAMP:20260419T170437
CREATED:20240822T094640Z
LAST-MODIFIED:20240822T094640Z
UID:13332-1741806000-1741811400@igs-herder.de
SUMMARY:Elterninformationsabend Übergang 8/9
DESCRIPTION:
URL:https://igs-herder.de/event/elterninformationsabend-uebergang-8-9/
END:VEVENT
BEGIN:VEVENT
DTSTART;TZID=Europe/Berlin:20250318T101500
DTEND;TZID=Europe/Berlin:20250318T141500
DTSTAMP:20260419T170437
CREATED:20241107T091933Z
LAST-MODIFIED:20250203T070044Z
UID:14161-1742292900-1742307300@igs-herder.de
SUMMARY:Präsentation Praxistag
DESCRIPTION:
URL:https://igs-herder.de/event/praesentation-praxistag/
CATEGORIES:Unterricht
END:VEVENT
BEGIN:VEVENT
DTSTART;TZID=Europe/Berlin:20250324T000000
DTEND;TZID=Europe/Berlin:20250328T235959
DTSTAMP:20260419T170437
CREATED:20240822T094856Z
LAST-MODIFIED:20241031T125943Z
UID:13336-1742774400-1743206399@igs-herder.de
SUMMARY:3. Zeitzone
DESCRIPTION:
URL:https://igs-herder.de/event/3-zeitzone/
END:VEVENT
BEGIN:VEVENT
DTSTART;TZID=Europe/Berlin:20250324T080000
DTEND;TZID=Europe/Berlin:20250404T170000
DTSTAMP:20260419T170437
CREATED:20240822T094757Z
LAST-MODIFIED:20240822T094757Z
UID:13334-1742803200-1743786000@igs-herder.de
SUMMARY:Jg. 8: Betriebspraktikum
DESCRIPTION:
URL:https://igs-herder.de/event/jg-8-betriebspraktikum/
END:VEVENT
BEGIN:VEVENT
DTSTART;TZID=Europe/Berlin:20250326T190000
DTEND;TZID=Europe/Berlin:20250326T210000
DTSTAMP:20260419T170437
CREATED:20241107T091934Z
LAST-MODIFIED:20250203T070044Z
UID:14163-1743015600-1743022800@igs-herder.de
SUMMARY:SEB
DESCRIPTION:
URL:https://igs-herder.de/event/seb-3/
CATEGORIES:Sonstiges
END:VEVENT
BEGIN:VEVENT
DTSTART;TZID=Europe/Berlin:20250331T000000
DTEND;TZID=Europe/Berlin:20250404T235959
DTSTAMP:20260419T170437
CREATED:20241107T091934Z
LAST-MODIFIED:20250203T070044Z
UID:14164-1743379200-1743811199@igs-herder.de
SUMMARY:KuPra Wechsel Jg 5 + 6
DESCRIPTION:
URL:https://igs-herder.de/event/kupra-wechsel-jg-5-6/
CATEGORIES:Unterricht
END:VEVENT
END:VCALENDAR