BEGIN:VCALENDAR
VERSION:2.0
PRODID:-//IGS Herder - ECPv6.15.20//NONSGML v1.0//EN
CALSCALE:GREGORIAN
METHOD:PUBLISH
X-ORIGINAL-URL:https://igs-herder.de
X-WR-CALDESC:Veranstaltungen für IGS Herder
REFRESH-INTERVAL;VALUE=DURATION:PT1H
X-Robots-Tag:noindex
X-PUBLISHED-TTL:PT1H
BEGIN:VTIMEZONE
TZID:Europe/Berlin
BEGIN:DAYLIGHT
TZOFFSETFROM:+0100
TZOFFSETTO:+0200
TZNAME:CEST
DTSTART:20240331T010000
END:DAYLIGHT
BEGIN:STANDARD
TZOFFSETFROM:+0200
TZOFFSETTO:+0100
TZNAME:CET
DTSTART:20241027T010000
END:STANDARD
BEGIN:DAYLIGHT
TZOFFSETFROM:+0100
TZOFFSETTO:+0200
TZNAME:CEST
DTSTART:20250330T010000
END:DAYLIGHT
BEGIN:STANDARD
TZOFFSETFROM:+0200
TZOFFSETTO:+0100
TZNAME:CET
DTSTART:20251026T010000
END:STANDARD
BEGIN:DAYLIGHT
TZOFFSETFROM:+0100
TZOFFSETTO:+0200
TZNAME:CEST
DTSTART:20260329T010000
END:DAYLIGHT
BEGIN:STANDARD
TZOFFSETFROM:+0200
TZOFFSETTO:+0100
TZNAME:CET
DTSTART:20261025T010000
END:STANDARD
END:VTIMEZONE
BEGIN:VEVENT
DTSTART;TZID=Europe/Berlin:20250324T080000
DTEND;TZID=Europe/Berlin:20250404T170000
DTSTAMP:20260419T140505
CREATED:20240822T094757Z
LAST-MODIFIED:20240822T094757Z
UID:13334-1742803200-1743786000@igs-herder.de
SUMMARY:Jg. 8: Betriebspraktikum
DESCRIPTION:
URL:https://igs-herder.de/event/jg-8-betriebspraktikum/
END:VEVENT
BEGIN:VEVENT
DTSTART;TZID=Europe/Berlin:20250331T000000
DTEND;TZID=Europe/Berlin:20250404T235959
DTSTAMP:20260419T140505
CREATED:20241107T091934Z
LAST-MODIFIED:20250203T070044Z
UID:14164-1743379200-1743811199@igs-herder.de
SUMMARY:KuPra Wechsel Jg 5 + 6
DESCRIPTION:
URL:https://igs-herder.de/event/kupra-wechsel-jg-5-6/
CATEGORIES:Unterricht
END:VEVENT
BEGIN:VEVENT
DTSTART;TZID=Europe/Berlin:20250403T000000
DTEND;TZID=Europe/Berlin:20250403T235959
DTSTAMP:20260419T140505
CREATED:20241107T091934Z
LAST-MODIFIED:20250203T070044Z
UID:14165-1743638400-1743724799@igs-herder.de
SUMMARY:Boys- & Girlsday / Pädagogischer Tag
DESCRIPTION:
URL:https://igs-herder.de/event/boys-girlsday-paedagogischer-tag/
CATEGORIES:Sonstiges
END:VEVENT
BEGIN:VEVENT
DTSTART;TZID=Europe/Berlin:20250404T000000
DTEND;TZID=Europe/Berlin:20250404T235959
DTSTAMP:20260419T140505
CREATED:20241107T091934Z
LAST-MODIFIED:20250203T070044Z
UID:14167-1743724800-1743811199@igs-herder.de
SUMMARY:Unterrichtsschluss 11:00 Uhr
DESCRIPTION:Ferienbeginn ab 11:00 Uhr
URL:https://igs-herder.de/event/unterrichtsschluss-1100-uhr-2/
CATEGORIES:Unterricht
END:VEVENT
BEGIN:VEVENT
DTSTART;TZID=Europe/Berlin:20250405T080000
DTEND;TZID=Europe/Berlin:20250421T170000
DTSTAMP:20260419T140505
CREATED:20240822T095115Z
LAST-MODIFIED:20240822T095115Z
UID:13340-1743840000-1745254800@igs-herder.de
SUMMARY:Osterferien
DESCRIPTION:Unterrichtsschluss am Freitag vor den Ferien um 11 Uhr
URL:https://igs-herder.de/event/osterferien-2/
END:VEVENT
BEGIN:VEVENT
DTSTART;TZID=Europe/Berlin:20250423T190000
DTEND;TZID=Europe/Berlin:20250423T203000
DTSTAMP:20260419T140505
CREATED:20240822T095542Z
LAST-MODIFIED:20240822T095542Z
UID:13342-1745434800-1745440200@igs-herder.de
SUMMARY:Informationsabend Übergang 6/7
DESCRIPTION:
URL:https://igs-herder.de/event/informationsabend-uebergang-6-7/
END:VEVENT
BEGIN:VEVENT
DTSTART;TZID=Europe/Berlin:20250428T081500
DTEND;TZID=Europe/Berlin:20250428T141500
DTSTAMP:20260419T140505
CREATED:20250203T070045Z
LAST-MODIFIED:20250203T070045Z
UID:14606-1745828100-1745849700@igs-herder.de
SUMMARY:8 Schülerlabor
DESCRIPTION:
URL:https://igs-herder.de/event/8-schuelerlabor/
CATEGORIES:Team 8
END:VEVENT
BEGIN:VEVENT
DTSTART;TZID=Europe/Berlin:20250430T081500
DTEND;TZID=Europe/Berlin:20250430T141500
DTSTAMP:20260419T140505
CREATED:20250203T070045Z
LAST-MODIFIED:20250203T070045Z
UID:14607-1746000900-1746022500@igs-herder.de
SUMMARY:8 Schülerlabor
DESCRIPTION:
URL:https://igs-herder.de/event/8-schuelerlabor-2/
CATEGORIES:Team 8
END:VEVENT
END:VCALENDAR